BEGIN:VCALENDAR
VERSION:2.0
PRODID:-//Halo Arts Project - ECPv6.15.17.1//NONSGML v1.0//EN
CALSCALE:GREGORIAN
METHOD:PUBLISH
X-WR-CALNAME:Halo Arts Project
X-ORIGINAL-URL:https://haloartsproject.com
X-WR-CALDESC:Events for Halo Arts Project
REFRESH-INTERVAL;VALUE=DURATION:PT1H
X-Robots-Tag:noindex
X-PUBLISHED-TTL:PT1H
BEGIN:VTIMEZONE
TZID:America/New_York
BEGIN:DAYLIGHT
TZOFFSETFROM:-0500
TZOFFSETTO:-0400
TZNAME:EDT
DTSTART:20250309T070000
END:DAYLIGHT
BEGIN:STANDARD
TZOFFSETFROM:-0400
TZOFFSETTO:-0500
TZNAME:EST
DTSTART:20251102T060000
END:STANDARD
BEGIN:DAYLIGHT
TZOFFSETFROM:-0500
TZOFFSETTO:-0400
TZNAME:EDT
DTSTART:20260308T070000
END:DAYLIGHT
BEGIN:STANDARD
TZOFFSETFROM:-0400
TZOFFSETTO:-0500
TZNAME:EST
DTSTART:20261101T060000
END:STANDARD
BEGIN:DAYLIGHT
TZOFFSETFROM:-0500
TZOFFSETTO:-0400
TZNAME:EDT
DTSTART:20270314T070000
END:DAYLIGHT
BEGIN:STANDARD
TZOFFSETFROM:-0400
TZOFFSETTO:-0500
TZNAME:EST
DTSTART:20271107T060000
END:STANDARD
END:VTIMEZONE
BEGIN:VEVENT
DTSTART;TZID=America/New_York:20260125T163000
DTEND;TZID=America/New_York:20260125T203000
DTSTAMP:20260423T052921
CREATED:20191002T071537Z
LAST-MODIFIED:20260129T001624Z
UID:10000008-1769358600-1769373000@haloartsproject.com
SUMMARY:Angels for Artists - Art Auction
DESCRIPTION:ARGUMENT OF TIME				\n				\n					\n		\n					\n		\n				\n						\n					\n			\n						\n				\n									MONSON\, MAINE\, USAA multi-disciplinary project based around the history and landscape of Monson\, a small town in Piscataquis County\, Maine\, United States. The collaborators will create a three-part performance piece which will premiere in July 2026 at the Conference on Poetry and Learning at Monson Arts.  Project DatesMarch 12-18\, 2026 Residency at the John Sims Studio in Sarasota\, Florida with one performance on March 16\, 2026 by invitation only. 								\n				\n				\n						\n					\n			\n						\n				\n									\n					\n						\n									Click To Visit Event Web Page\n					\n					\n				\n								\n				\n					\n		\n				\n			\n							\n		\n					\n		\n					\n		\n				\n			\n						\n				\n												\n																					Monson Maine Quarry. (Photo credit: Teresa Carson)
URL:https://haloartsproject.com/event/angels-for-artists/
LOCATION:SRQ Waterworks\, 1005 N. Orange Ave.\, Sarasota\, FL\, 34236\, United States
ATTACH;FMTTYPE=image/jpeg:https://haloartsproject.com/wp-content/uploads/Angels-For-Artists-Instagram-0525R.jpg
END:VEVENT
END:VCALENDAR