BEGIN:VCALENDAR
VERSION:2.0
PRODID:-//Halo Arts Project - ECPv6.15.17.1//NONSGML v1.0//EN
CALSCALE:GREGORIAN
METHOD:PUBLISH
X-WR-CALNAME:Halo Arts Project
X-ORIGINAL-URL:https://haloartsproject.com
X-WR-CALDESC:Events for Halo Arts Project
REFRESH-INTERVAL;VALUE=DURATION:PT1H
X-Robots-Tag:noindex
X-PUBLISHED-TTL:PT1H
BEGIN:VTIMEZONE
TZID:America/New_York
BEGIN:DAYLIGHT
TZOFFSETFROM:-0500
TZOFFSETTO:-0400
TZNAME:EDT
DTSTART:20250309T070000
END:DAYLIGHT
BEGIN:STANDARD
TZOFFSETFROM:-0400
TZOFFSETTO:-0500
TZNAME:EST
DTSTART:20251102T060000
END:STANDARD
BEGIN:DAYLIGHT
TZOFFSETFROM:-0500
TZOFFSETTO:-0400
TZNAME:EDT
DTSTART:20260308T070000
END:DAYLIGHT
BEGIN:STANDARD
TZOFFSETFROM:-0400
TZOFFSETTO:-0500
TZNAME:EST
DTSTART:20261101T060000
END:STANDARD
BEGIN:DAYLIGHT
TZOFFSETFROM:-0500
TZOFFSETTO:-0400
TZNAME:EDT
DTSTART:20270314T070000
END:DAYLIGHT
BEGIN:STANDARD
TZOFFSETFROM:-0400
TZOFFSETTO:-0500
TZNAME:EST
DTSTART:20271107T060000
END:STANDARD
END:VTIMEZONE
BEGIN:VEVENT
DTSTART;VALUE=DATE:20260316
DTEND;VALUE=DATE:20260317
DTSTAMP:20260422T055427
CREATED:20260309T180042Z
LAST-MODIFIED:20260309T230028Z
UID:10000017-1773619200-1773705599@haloartsproject.com
SUMMARY:ARGUMENT OF TIME
DESCRIPTION:CALL FOR ARTISTS – Info Coming Soon!				\n				\n					\n		\n					\n		\n				\n						\n					\n			\n							\n		\n					\n		\n				\n						\n					\n			\n						\n				\n																														\n				\n					\n		\n				\n			\n						\n				\n									Organization: Halo Arts Project\, Inc not-for-profit 501 c 3 organizationSubmission Deadline: December 31\, 2026Event Dates: Coming SoonEntry Fee: FREEEligibility: Open to Artists nationwide over the age of 18. All visual artistic mediums are eligible\, including 2-D and 3-D (sculpture)\, textile\, craft/traditional and any style: landscape\, abstract\, figurative\, collage.Categories: No larger than 24 x 24Location: Sarasota Florida\, United States								\n				\n					\n		\n					\n		\n				\n						\n					\n			\n						\n				\n									7th Annual Angels for Artists Online & Live Art AuctionThe event funds $5\,000 Halo Fellowship Awards to Florida Visual Artists.Description “What is Beauty?” is a powerful exploration of presence – not just what the eye can see.Not always just an appearance.  Beauty is a quality that comes from the object and rises from the mind.  Beauty blends the senses and the soul.  It can be chaotic\, cultural\, discreet\, or even fierce. Artists are invited to submit paintings\, prints\, archival photography\, small sculptures\, and mixed media works that explores beauty through many lenses.  The exhibition celebrates varied expression and aesthetic appreciation.  Join us in creating a captivating aura that goes beyond what meets the eye.  Explore the mirror of this powerful social construct that reflects and shapes a society’s values\, fears\, and aspirations.  								\n				\n					\n		\n				\n			\n						\n				\n																														\n				\n					\n		\n					\n		\n				\n						\n					\n			\n						\n				\n							\n			\n						\n		\n						\n				\n					\n		\n					\n		\n				\n						\n					\n			\n						\n				\n																														\n				\n					\n		\n				\n			\n						\n				\n									MARK YOUR CALENDARS FOR JANUARY 2027Angles For Artists Live & Online Art Auction: Dates Coming Soon!Angels for Artists raises funds and exists to provide financial resources and programming support to Visual Artists in Florida.  The Online and Live Art Auction is a fun-filled fundraising event\, and great way to add original artworks to your home or office art collection.  								\n				\n				\n				\n									\n					\n						\n									Read More About Angels For Artists\n					\n					\n				\n								\n				\n					\n		\n					\n		\n				\n						\n					\n			\n						\n				\n							\n			\n						\n		\n						\n				\n					\n		\n					\n		\n				\n						\n					\n			\n						\n						\n					\n			\n						\n				\n									ARTISTS AND COLLECTORS!  Interested in donating a piece(s) of ART?								\n				\n				\n				\n									\n					\n						\n									Click Here To Learn How To Donate Artwork\n					\n					\n				\n								\n				\n					\n		\n				\n			\n						\n				\n																														\n				\n					\n		\n					\n		\n				\n				\n									Days Left to Enter — Get Your Entry in by December 31\, 2025!								\n				\n				\n				\n							\n			 Days Hours Minutes Seconds		\n						\n				\n					\n		\n					\n		\n				\n						\n					\n			\n						\n				\n							\n			\n						\n		\n						\n				\n				\n				\n									Sign the front of your canvas and legibly print your name AND TITLE on the back. One artist will be rewarded $1\,500 for the highest selling artwork.Space is limited for this opportunity to get some great exposure and to help fund Halo Fellowship Awards for Visual Artists. 								\n				\n				\n				\n							\n			\n						\n		\n						\n				\n					\n		\n					\n		\n				\n						\n					\n			\n						\n				\n																														\n				\n					\n		\n				\n			\n						\n				\n																														\n				\n					\n		\n				\n			\n						\n				\n																														\n				\n					\n		\n					\n		\n				\n						\n					\n			\n							\n		\n					\n		\n				\n						\n					\n			\n						\n				\n					Call For Artists Registration				\n				\n				\n				\n									Please fill out all of the information fields below and upload your artwork. Thank you! 								\n				\n					\n		\n					\n		\n				\n						\n					\n			\n						\n				\n							Name *Email Address *Street Address *Apartment\, suite\, etcCity *State/Province *ZIP / Postal Code *Phone *Title of Painting: *What is the size of the work? *What is the medium? *What is the value of the work? *Short BIO-Statement *Upload files: Please submit up to 3 on-line photographs of your artUnder 2mb each\, jpg\, pdf\, png\, gif files accepted.Drag and Drop (or) Choose Files Rules and Procedures• Sign the front of your canvas and legibly print your name AND TITLE on the back.\n\n\n• All Paintings can be submitted at any time but no later than December 31\, 2025.• There will be scheduled drop-off dates & times available during the months of September\, October and November. Please email info@haloartsproject.com for more information. \n\nTerms & Conditions• Deadline for Registration: All Paintings can be submitted at any time\, but no later than December 31\, 2025. \n• All donated paintings become the property of Halo Arts Project\, Inc. who reserves the right to showcase artists work and photos or copies thereof\, in any advertising\, publication or website. \n• Halo Arts Project\, Inc. reserves the right to reject any submission it deems inappropriate. Consent *Yes\, I agree with the terms and conditions.  Submit\n						\n				\n					\n		\n					\n		\n				\n						\n					\n			\n						\n				\n							\n\n  \n\n\n\n\n	Name *\n\n	 \n	Email *\n\n	 \n	Address *\n\n	 \n	City *\n\n	 \n	State *\n\n	 \n	Zip *\n\n	 \n	Phone Number *\n\n	 \n	Title of Painting: *\n\n	 \n	What is the size of the work? *\n\n	 \n	What is the medium? *\n\n	 \n	What is the value of the work? *\n\n	 \n	Short BIO- Statement *\n\n	 \n	 Please submit up to 3 on-line photographs of your art (under 2mb each\, jpg\, pdf\, png\, gif files accepted)\n\n	 \n	\n	\n	\n		Rules & Procedures:\n• Sign the front of your canvas and legibly print your name AND TITLE on the back.\n• All Paintings can be submitted at any time but no later than December 31\, 2025.\n• There will be scheduled drop-off dates & times available during the months of September\, October and November. Please email info@haloartsproject.com for more information.\n		 \n	\n	Terms & Conditions:\n\n• Deadline for Registration: All Paintings can be submitted at any time\, but no later than December 31\, 2025.\n• All donated paintings become the property of Halo Arts Project\, Inc. who reserves the right to showcase artists work\, and photos or copies thereof\, in any advertising\, publication or website. \n• Halo Arts Project\, Inc. reserves the right to reject any submission it deems inappropriate.\n	 \n	\n		I consent to the terms & conditions.\n		 \n	\n	\n	\n\n	\n		\n		\n		\n		\n	\n\n\n	\n	\n		\n		 \n	\nΔ \n\n\n\n						\n				\n					\n		\n					\n		\n				\n						\n					\n			\n						\n				\n									NOTE: YOU MUST CHECK THE BOX NEXT TO  “I consent to the terms & conditions”  above the “Submit” button for the form to be submitted. You will receive a confirmation email when we receive your form. 
URL:https://haloartsproject.com/event/argument-of-time/
LOCATION:John Sims Studio\, 1639 Tenth Street\, Sarasota\, FL\, 34236\, United States
ATTACH;FMTTYPE=image/jpeg:https://haloartsproject.com/wp-content/uploads/monson-maine-quarry.jpg
END:VEVENT
END:VCALENDAR